BEGIN:VCALENDAR
VERSION:2.0
PRODID:-//Orquesta Sonata - ECPv6.8.2.1//NONSGML v1.0//EN
CALSCALE:GREGORIAN
METHOD:PUBLISH
X-ORIGINAL-URL:https://orquestasonata.com
X-WR-CALDESC:Eventos para Orquesta Sonata
REFRESH-INTERVAL;VALUE=DURATION:PT1H
X-Robots-Tag:noindex
X-PUBLISHED-TTL:PT1H
BEGIN:VTIMEZONE
TZID:UTC
BEGIN:STANDARD
TZOFFSETFROM:+0000
TZOFFSETTO:+0000
TZNAME:UTC
DTSTART:20240101T000000
END:STANDARD
END:VTIMEZONE
BEGIN:VEVENT
DTSTART;TZID=UTC:20240314T220000
DTEND;TZID=UTC:20240314T220000
DTSTAMP:20260424T001539
CREATED:20240313T145111Z
LAST-MODIFIED:20240313T151154Z
UID:1777-1710453600-1710453600@orquestasonata.com
SUMMARY:FIESTA CORPORATIVA INDURAMA
DESCRIPTION:Únete a nosotros para una noche llena de música y diversión en el evento especial de Sonata para INDURAMA. Estamos emocionados de ser parte de esta celebración y compartir nuestra pasión por la música en vivo en el prestigioso Suizo Hotel.
URL:https://orquestasonata.com/event/fiesta-corporativa-indurama/
LOCATION:Suizo Hotel Quito\, Av.12 de Octubre 1820 y Luis Cordero\, QUITO\, Pichincha\, 1721565\, Ecuador
CATEGORIES:CORPORATIVOS
ATTACH;FMTTYPE=image/jpeg:https://orquestasonata.com/wp-content/uploads/2024/03/eventos.jpg
END:VEVENT
BEGIN:VEVENT
DTSTART;TZID=UTC:20240315T190000
DTEND;TZID=UTC:20240315T190000
DTSTAMP:20260424T001539
CREATED:20240313T151120Z
LAST-MODIFIED:20240313T151120Z
UID:1783-1710529200-1710529200@orquestasonata.com
SUMMARY:FIESTA DE INAUGURACIÓN YARUQUI
DESCRIPTION:¡Te invitamos a la gran inauguración del nuevo local de Yaruqui! Únete a nosotros el 15 de marzo de 2024 para celebrar este emocionante evento con música en vivo a cargo de Sonata. Prepárate para una noche llena de energía\, entretenimiento y sorpresas mientras disfrutas de la mejor música en vivo en un ambiente vibrante y acogedor
URL:https://orquestasonata.com/event/fiesta-de-inauguracion-yaruqui/
LOCATION:Pichincha
CATEGORIES:CORPORATIVOS
ATTACH;FMTTYPE=image/jpeg:https://orquestasonata.com/wp-content/uploads/2024/03/image-1.jpg
END:VEVENT
BEGIN:VEVENT
DTSTART;TZID=UTC:20240323T130000
DTEND;TZID=UTC:20240323T220000
DTSTAMP:20260424T001539
CREATED:20240313T151933Z
LAST-MODIFIED:20240313T151933Z
UID:1787-1711198800-1711231200@orquestasonata.com
SUMMARY:BODA JOSE D ARTHENAY EN PUEMBO
DESCRIPTION:¡Celebra el amor junto a José D’Arthenay en su espectacular boda en la Quinta de Puembo! Únete a nosotros en esta ocasión especial el 23 de marzo para una noche llena de romance\, música en vivo y momentos inolvidables. Con la elegancia y el encanto de la Quinta de Puembo como telón de fondo\, será una celebración que no querrás perderte.
URL:https://orquestasonata.com/event/boda-jose-d-arthenay-en-puembo/
LOCATION:Pichincha
ATTACH;FMTTYPE=image/jpeg:https://orquestasonata.com/wp-content/uploads/2024/03/eventos-1.jpg
END:VEVENT
END:VCALENDAR