BEGIN:VCALENDAR
VERSION:2.0
PRODID:-//Orquesta Sonata - ECPv6.8.2.1//NONSGML v1.0//EN
CALSCALE:GREGORIAN
METHOD:PUBLISH
X-WR-CALNAME:Orquesta Sonata
X-ORIGINAL-URL:https://orquestasonata.com
X-WR-CALDESC:Eventos para Orquesta Sonata
REFRESH-INTERVAL;VALUE=DURATION:PT1H
X-Robots-Tag:noindex
X-PUBLISHED-TTL:PT1H
BEGIN:VTIMEZONE
TZID:UTC
BEGIN:STANDARD
TZOFFSETFROM:+0000
TZOFFSETTO:+0000
TZNAME:UTC
DTSTART:20240101T000000
END:STANDARD
END:VTIMEZONE
BEGIN:VEVENT
DTSTART;TZID=UTC:20240518T163000
DTEND;TZID=UTC:20240518T183000
DTSTAMP:20260423T223634
CREATED:20240514T105132Z
LAST-MODIFIED:20240514T110348Z
UID:1823-1716049800-1716057000@orquestasonata.com
SUMMARY:Boda Carlos Yanez
DESCRIPTION:El 18 de mayo de 2024\, acompáñanos en la boda de Carlos Yanez en la deslumbrante Hacienda Santa Cruz. La Orquesta Sonata se enorgullece de traer su espectáculo único para crear una experiencia inolvidable para los novios y sus invitados. Sabemos que planificar una boda puede ser estresante y lleno de preocupaciones\, pero con nuestra música en vivo\, puedes estar segura de que tu celebración estará en las mejores manos. Nuestro repertorio versátil y nuestros talentosos músicos se asegurarán de que cada momento esté lleno de emoción y alegría\, dejando a todos con recuerdos imborrables. ¡No dejes que el estrés te agobie\, confía en la Orquesta Sonata para hacer de tu boda un evento mágico y perfecto!
URL:https://orquestasonata.com/event/boda-carlos-yanez/
LOCATION:Hacienda Santa Cruz\, Calle Huancavilcas Km 7 1/2 Amaguaña – Quito\, QUITO\, RUMIÑAHUI\, Ecuador
CATEGORIES:BODAS
ATTACH;FMTTYPE=image/jpeg:https://orquestasonata.com/wp-content/uploads/2024/05/Diseno-sin-titulo-24.jpg
END:VEVENT
BEGIN:VEVENT
DTSTART;TZID=UTC:20240525T143000
DTEND;TZID=UTC:20240525T190000
DTSTAMP:20260423T223634
CREATED:20240514T105542Z
LAST-MODIFIED:20240514T110319Z
UID:1826-1716647400-1716663600@orquestasonata.com
SUMMARY:Boda de Pablo Gordón
DESCRIPTION:El 25 de mayo de 2024\, la Quinta Fiorenza será el escenario de la espectacular boda de Pablo Gordon\, y la Orquesta Sonata estará allí para hacer de esta ocasión algo verdaderamente especial. Sabemos que cada novia sueña con una boda única que refleje su estilo y personalidad. Nuestra orquesta se dedica a crear una atmósfera elegante y entretenida\, asegurando que tanto los novios como los invitados disfruten de una noche memorable. Con una cuidadosa selección de música que incluye desde clásicos románticos hasta los éxitos más modernos\, te garantizamos un evento lleno de momentos mágicos y diversión. Déjanos encargarnos de la música para que puedas centrarte en disfrutar de tu día especial sin preocupaciones.
URL:https://orquestasonata.com/event/boda-de-pablo-gordon/
LOCATION:Quinta Fiorenza\, Pichincha\, Ecuador
CATEGORIES:BODAS
ATTACH;FMTTYPE=image/jpeg:https://orquestasonata.com/wp-content/uploads/2024/05/Diseno-sin-titulo-25.jpg
END:VEVENT
END:VCALENDAR