BEGIN:VCALENDAR
VERSION:2.0
PRODID:-//Orquesta Sonata - ECPv6.8.2.1//NONSGML v1.0//EN
CALSCALE:GREGORIAN
METHOD:PUBLISH
X-WR-CALNAME:Orquesta Sonata
X-ORIGINAL-URL:https://orquestasonata.com
X-WR-CALDESC:Eventos para Orquesta Sonata
REFRESH-INTERVAL;VALUE=DURATION:PT1H
X-Robots-Tag:noindex
X-PUBLISHED-TTL:PT1H
BEGIN:VTIMEZONE
TZID:UTC
BEGIN:STANDARD
TZOFFSETFROM:+0000
TZOFFSETTO:+0000
TZNAME:UTC
DTSTART:20240101T000000
END:STANDARD
END:VTIMEZONE
BEGIN:VEVENT
DTSTART;TZID=UTC:20240315T190000
DTEND;TZID=UTC:20240315T190000
DTSTAMP:20260424T014957
CREATED:20240313T151120Z
LAST-MODIFIED:20240313T151120Z
UID:1783-1710529200-1710529200@orquestasonata.com
SUMMARY:FIESTA DE INAUGURACIÓN YARUQUI
DESCRIPTION:¡Te invitamos a la gran inauguración del nuevo local de Yaruqui! Únete a nosotros el 15 de marzo de 2024 para celebrar este emocionante evento con música en vivo a cargo de Sonata. Prepárate para una noche llena de energía\, entretenimiento y sorpresas mientras disfrutas de la mejor música en vivo en un ambiente vibrante y acogedor
URL:https://orquestasonata.com/event/fiesta-de-inauguracion-yaruqui/
LOCATION:Pichincha
CATEGORIES:CORPORATIVOS
ATTACH;FMTTYPE=image/jpeg:https://orquestasonata.com/wp-content/uploads/2024/03/image-1.jpg
END:VEVENT
END:VCALENDAR