BEGIN:VCALENDAR
VERSION:2.0
PRODID:-//Orquesta Sonata - ECPv6.8.2.1//NONSGML v1.0//EN
CALSCALE:GREGORIAN
METHOD:PUBLISH
X-ORIGINAL-URL:https://orquestasonata.com
X-WR-CALDESC:Eventos para Orquesta Sonata
REFRESH-INTERVAL;VALUE=DURATION:PT1H
X-Robots-Tag:noindex
X-PUBLISHED-TTL:PT1H
BEGIN:VTIMEZONE
TZID:UTC
BEGIN:STANDARD
TZOFFSETFROM:+0000
TZOFFSETTO:+0000
TZNAME:UTC
DTSTART:20240101T000000
END:STANDARD
END:VTIMEZONE
BEGIN:VEVENT
DTSTART;TZID=UTC:20240224T130000
DTEND;TZID=UTC:20240224T190000
DTSTAMP:20260424T033408
CREATED:20240217T150037Z
LAST-MODIFIED:20240217T155857Z
UID:1769-1708779600-1708801200@orquestasonata.com
SUMMARY:BODA PRIVADA EN QUINTA KRYSTAL HOTEL BOUTIQUE
DESCRIPTION:🎉 ¡No te pierdas el evento del año! 🎶 Este 22 de febrero\, Orquesta Sonata se complace en presentar un espectacular show en la prestigiosa Quinta Krystal Hotel Boutique. \n👰🤵 Prepárate para una tarde y  noche llena de magia y emoción mientras celebramos el amor en una de las locaciones más exclusivas de la ciudad. Con una combinación única de talento\, elegancia y pasión\, Orquesta Sonata elevará tu experiencia a un nivel completamente nuevo con su campaña Uniendo Corazones 2024. \n🎵 Disfruta de una variedad de géneros musicales\, desde merengue\, salsa y cumbia tradicional  hasta los éxitos más recientes\, todo ejecutado con maestría por nuestros talentosos músicos y vocalistas. ¡Baila al ritmo de la música en vivo y crea recuerdos inolvidables junto a tus seres queridos! \n💃🕺 Además\, nuestra presentación estará acompañada de un espectáculo jamas visto en el Ecuador y creará una atmósfera mágica digna de un cuento de hadas. ¡Prepárate para ser transportado a un mundo de romance y diversión! \n🥂 No pierdas la oportunidad de ser parte de este evento extraordinario. Reserva tu lugar ahora y únete a nosotros para una noche inolvidable en la Quinta Krystal Hotel Boutique. Reserva tu lugar con nuestro manager el Magister. Diego Puga al 0994148405 ¡Te esperamos para celebrar el amor y la música juntos!
URL:https://orquestasonata.com/event/boda-privada-en-quinta-krystal-hotel-boutique/
LOCATION:QUINTA KRYSTAL HOTEL BOUTIQUE\, Principal de San Francisco de Alpahuma\, Quito\, QUITO\, RUMIÑAHUI\, Ecuador
ATTACH;FMTTYPE=image/png:https://orquestasonata.com/wp-content/uploads/2024/02/8.png
END:VEVENT
END:VCALENDAR